Workbook
Name cg_codBarras: [1]Configurações!#REF!
Name cg_codBarras: #REF!
Name cg_corBarras: #REF!
Name cg_corMiolo: #REF!
Name g360_codBarras: [1]Configurações!#REF!
Name g360_codBarras: #REF!
Name Print_Area: ' Qualidade (Notas)'!$A$1:$G$103
Name Print_Area: Analise!$A$3:$Y$159
Name Print_Area: 'Qualidade (Item)'!$A$1:$G$103

Sheet Respostas
D1: Questões do Conscienciograma
F3: Esta Coluna é livre para Anotações Pessoais
C4: Seção e FA | D4: Questão | E4: Notas | G4: Trafores | H4: Trafares | I4: Trafais
C5: SOMA - FA 01 INTRASSOMATICIDADE (Conscin e Soma) | D5: 01. Uma conscin doente, suicida lenta, sem atenuantes cosmoéticas nem justificações (Nota: zero absoluto neste Item e, provavelmente, em toda esta FA de Avaliação). | E5: Selecione a Nota aqui.
C6: SOMA - FA 01 INTRASSOMATICIDADE (Conscin e Soma) | D6: 02. Qual a análise que você faz do seu biótipo? Qual a sua constituição física, a sua personalidade, o seu ser holossomático? | E6: Selecione a Nota aqui.
C7: SOMA - FA 01 INTRASSOMATICIDADE (Conscin e Soma) | D7: 03. Quais as suas identificações com o novo soma? Você é destro, canhoto ou ambidestro? Como está a sua saúde? Em que nível e de que natureza são as suas doenças ou deficiências? | E7: Selecione a Nota aqui.
C8: SOMA - FA 01 INTRASSOMATICIDADE (Conscin e Soma) | D8: 04. Na condição de Homo humanus, como considera o seu soma: um mecanismo de átomos ou prótese da consciência? | E8: Selecione a Nota aqui.
C9: SOMA - FA 01 INTRASSOMATICIDADE (Conscin e Soma) | D9: 05. Quais as suas aplicações do soma, sadias ou doentias? Já passou por cirurgias úteis, inevitáveis, ou cirurgias dispensáveis? | E9: Selecione a Nota aqui.
C10: SOMA - FA 01 INTRASSOMATICIDADE (Conscin e Soma) | D10: 06. Quais são as suas reações às três higienes, física, mental e consciencial, à indiferença, às autoflagelações, aos narcisismos e às deficiências físicas? | E10: Selecione a Nota aqui.
C11: SOMA - FA 01 INTRASSOMATICIDADE (Conscin e Soma) | D11: 07. Que visual você mantém habitualmente: simples, comedido, austero, displicente, enfeitado, requintado ou exagerado? | E11: Selecione a Nota aqui.
C12: SOMA - FA 01 INTRASSOMATICIDADE (Conscin e Soma) | D12: 08. Quais os seus cuidados com o soma? São eles normais ou excessivos, com ou sem abusos conscientes ou inconscientes? | E12: Selecione a Nota aqui.
C13: SOMA - FA 01 INTRASSOMATICIDADE (Conscin e Soma) | D13: 09. Você mantém a integridade autoconsciente do soma? Já abusou de mutilações, tóxicos, tatuagens, pinturas tóxicas, malhações, anabolizantes, dietas irracionais, bulimia ou excessos? | E13: Selecione a Nota aqui.
C14: SOMA - FA 01 INTRASSOMATICIDADE (Conscin e Soma) | D14: 10. Quais as suas corrupções físicas perante os vícios, o tabagismo, as drogas, a gula, o sexo e os esportes radicais? | E14: Selecione a Nota aqui.
C15: SOMA - FA 01 INTRASSOMATICIDADE (Conscin e Soma) | D15: 11. Como vive você com o seu organismo, os seus instintos, as suas autodefesas, as falhas mecânicas e os desvios humanos? | E15: Selecione a Nota aqui.
C16: SOMA - FA 01 INTRASSOMATICIDADE (Conscin e Soma) | D16: 12. Qual a sua posição perante os conceitos de normalidade? Você se julga com superioridade ou com inferioridade física? | E16: Selecione a Nota aqui.
... C2004: UNIVERSALIDADE - FA 100 HOLOCARMALIDADE (Carma Integral) | D2004: 2000. Uma conscin com largo saldo positivo no balanço holocármico (Nota: vinte com louvor neste Item). | E2004: Selecione a Nota aqui.
A2006: Selecione a Nota aqui.
A2007: 0
A2008: 0.05 | C2008: Planilha Recin I
A2009: 0.1 | C2009: Planilha Recin II
A2010: 0.15 | C2010: Para desbloquear a planilha
A2011: 0.2
A2012: 0.25
A2013: 0.3
A2014: 0.35
A2015: 0.4
A2016: 0.45
A2017: 0.5
A2018: 0.55
A2019: 0.6
A2020: 0.65
A2021: 0.7
A2022: 0.75
... A2027: 1
A2028: na
A2029: -1

Sheet Analise
U1: AVALIAÇÃO VALORATIVA DA CONSCIÊNCIA
V9: MEGATRAFOR - MEGATRAFAR | X9: ESCALA EVOLUTIVA DAS CONSCIÊNCIAS
T11: 1 | U11: =INDEX($XFB$11:$XFB$20,MATCH(LARGE($XFC$11:$XFC$20,T11),$XFC$11:$XFC$20,0)) -> 0 | V11: =INDEX($XFA$11:$XFA$20,MATCH(LARGE($XFC$11:$XFC$20,T11),$XFC$11:$XFC$20,0)) -> SOMA | Y11: 0.1 | Z11: CONSRÉU TRANSMIGRADA | AG11: =$Y$41 -> 0 | AH11: =$V$41 -> SOMA | AI11: =COUNTIF($AG$11:$AG$20,">"&AG11)+COUNTIF($AG$11:AG11,AG11) -> 1 | XFA11: =$V$41 -> SOMA | XFB11: =$Y$41 -> 0 | XFC11: =XFB11+(11-ROW())/1000000 -> 0
T12: 2 | U12: =INDEX($XFB$11:$XFB$20,MATCH(LARGE($XFC$11:$XFC$20,T12),$XFC$11:$XFC$20,0)) -> 0 | V12: =INDEX($XFA$11:$XFA$20,MATCH(LARGE($XFC$11:$XFC$20,T12),$XFC$11:$XFC$20,0)) -> BIOENERGÉTICA | Y12: 0.2 | Z12: CONSRÉU RESSOMADA | AG12: =$Y$53 -> 0 | AH12: =$V$53 -> BIOENERGÉTICA | AI12: =COUNTIF($AG$11:$AG$20,">"&AG12)+COUNTIF($AG$11:AG12,AG12) -> 2 | XFA12: =$V$53 -> BIOENERGÉTICA | XFB12: =$Y$53 -> 0 | XFC12: =XFB12+(11-ROW())/1000000 -> -1e-06
T13: 3 | U13: =INDEX($XFB$11:$XFB$20,MATCH(LARGE($XFC$11:$XFC$20,T13),$XFC$11:$XFC$20,0)) -> 0 | V13: =INDEX($XFA$11:$XFA$20,MATCH(LARGE($XFC$11:$XFC$20,T13),$XFC$11:$XFC$20,0)) -> ANTIEMOCIONALIDADE | Y13: 0.25 | Z13: PRÉ-SERENÃO VULGAR | AG13: =$Y$65 -> 0 | AH13: =$V$77 -> RACIONALIDADE | AI13: =COUNTIF($AG$11:$AG$20,">"&AG13)+COUNTIF($AG$11:AG13,AG13) -> 3 | XFA13: =$V$65 -> ANTIEMOCIONALIDADE | XFB13: =$Y$65 -> 0 | XFC13: =XFB13+(11-ROW())/1000000 -> -2e-06
T14: 4 | U14: =INDEX($XFB$11:$XFB$20,MATCH(LARGE($XFC$11:$XFC$20,T14),$XFC$11:$XFC$20,0)) -> 0 | V14: =INDEX($XFA$11:$XFA$20,MATCH(LARGE($XFC$11:$XFC$20,T14),$XFC$11:$XFC$20,0)) -> RACIONALIDADE | Y14: 0.25 | Z14: ISCA INCONSCIENTE | AG14: =$Y$77 -> 0 | AH14: =$V$89 -> LIDERANÇA | AI14: =COUNTIF($AG$11:$AG$20,">"&AG14)+COUNTIF($AG$11:AG14,AG14) -> 4 | XFA14: =$V$77 -> RACIONALIDADE | XFB14: =$Y$77 -> 0 | XFC14: =XFB14+(11-ROW())/1000000 -> -3e-06
T15: 5 | U15: =INDEX($XFB$11:$XFB$20,MATCH(LARGE($XFC$11:$XFC$20,T15),$XFC$11:$XFC$20,0)) -> 0 | V15: =INDEX($XFA$11:$XFA$20,MATCH(LARGE($XFC$11:$XFC$20,T15),$XFC$11:$XFC$20,0)) -> LIDERANÇA | Y15: 0.25 | Z15: TENEPESSISTA | AG15: =$Y$89 -> 0 | AH15: =$V$101 -> COMUNICABILIDADE | AI15: =COUNTIF($AG$11:$AG$20,">"&AG15)+COUNTIF($AG$11:AG15,AG15) -> 5 | XFA15: =$V$89 -> LIDERANÇA | XFB15: =$Y$89 -> 0 | XFC15: =XFB15+(11-ROW())/1000000 -> -4e-06
T16: 6 | U16: =INDEX($XFB$11:$XFB$20,MATCH(LARGE($XFC$11:$XFC$20,T16),$XFC$11:$XFC$20,0)) -> 0 | V16: =INDEX($XFA$11:$XFA$20,MATCH(LARGE($XFC$11:$XFC$20,T16),$XFC$11:$XFC$20,0)) -> COMUNICABILIDADE | Y16: 0.3 | Z16: PROJETO CONSCIENTE | AG16: =$Y$101 -> 0 | AH16: =$V$113 -> PRIORIZAÇÃO | AI16: =COUNTIF($AG$11:$AG$20,">"&AG16)+COUNTIF($AG$11:AG16,AG16) -> 6 | XFA16: =$V$101 -> COMUNICABILIDADE | XFB16: =$Y$101 -> 0 | XFC16: =XFB16+(11-ROW())/1000000 -> -5e-06
T17: 7 | U17: =INDEX($XFB$11:$XFB$20,MATCH(LARGE($XFC$11:$XFC$20,T17),$XFC$11:$XFC$20,0)) -> 0 | V17: =INDEX($XFA$11:$XFA$20,MATCH(LARGE($XFC$11:$XFC$20,T17),$XFC$11:$XFC$20,0)) -> PRIORIZAÇÃO | Y17: 0.35 | Z17: EPICON LÚCIDO | AG17: =$Y$113 -> 0 | AH17: =$V$125 -> COERÊNCIA | AI17: =COUNTIF($AG$11:$AG$20,">"&AG17)+COUNTIF($AG$11:AG17,AG17) -> 7 | XFA17: =$V$113 -> PRIORIZAÇÃO | XFB17: =$Y$113 -> 0 | XFC17: =XFB17+(11-ROW())/1000000 -> -6e-06
T18: 8 | U18: =INDEX($XFB$11:$XFB$20,MATCH(LARGE($XFC$11:$XFC$20,T18),$XFC$11:$XFC$20,0)) -> 0 | V18: =INDEX($XFA$11:$XFA$20,MATCH(LARGE($XFC$11:$XFC$20,T18),$XFC$11:$XFC$20,0)) -> COERÊNCIA | Y18: 0.4 | Z18: CONSCIENCIÓLOGO | AG18: =$Y$125 -> 0 | AH18: =$V$137 -> CONSCIENCIALIDADE | AI18: =COUNTIF($AG$11:$AG$20,">"&AG18)+COUNTIF($AG$11:AG18,AG18) -> 8 | XFA18: =$V$125 -> COERÊNCIA | XFB18: =$Y$125 -> 0 | XFC18: =XFB18+(11-ROW())/1000000 -> -7e-06
T19: 9 | U19: =INDEX($XFB$11:$XFB$20,MATCH(LARGE($XFC$11:$XFC$20,T19),$XFC$11:$XFC$20,0)) -> 0 | V19: =INDEX($XFA$11:$XFA$20,MATCH(LARGE($XFC$11:$XFC$20,T19),$XFC$11:$XFC$20,0)) -> CONSCIENCIALIDADE | Y19: 0.5 | Z19: DESPERTO | AG19: =$Y$137 -> 0 | AH19: =$V$149 -> UNIVERSALIDADE | AI19: =COUNTIF($AG$11:$AG$20,">"&AG19)+COUNTIF($AG$11:AG19,AG19) -> 9 | XFA19: =$V$137 -> CONSCIENCIALIDADE | XFB19: =$Y$137 -> 0 | XFC19: =XFB19+(11-ROW())/1000000 -> -8e-06
T20: 10 | U20: =INDEX($XFB$11:$XFB$20,MATCH(LARGE($XFC$11:$XFC$20,T20),$XFC$11:$XFC$20,0)) -> 0 | V20: =INDEX($XFA$11:$XFA$20,MATCH(LARGE($XFC$11:$XFC$20,T20),$XFC$11:$XFC$20,0)) -> UNIVERSALIDADE | Y20: 0.6 | Z20: SEMICONSCIEX | AG20: =$Y$149 -> 0 | AH20: =$V$149 -> UNIVERSALIDADE | AI20: =COUNTIF($AG$11:$AG$20,">"&AG20)+COUNTIF($AG$11:AG20,AG20) -> 10 | XFA20: =$V$149 -> UNIVERSALIDADE | XFB20: =$Y$149 -> 0 | XFC20: =XFB20+(11-ROW())/1000000 -> -9e-06
Y21: 0.65 | Z21: TELEGUIADO AUTOCRÍTICO
Y22: 0.75 | Z22: EVOLUCIÓLOGO
Y23: 1 | Z23: SERENÃO
Y24: INFINITO | Z24: CONSCIÊNCIA LIVRE
V29: Nota Total do Conscienciograma | W29: =SUM(W42:W159)/(2000-COUNTIF(Respostas!E5:E2004,"na")) -> 0
V30: Folha de Avaliação Megatrafar: | W30: =W29-W34 -> -0.005 | Y30: variação abaixo da média
V31: Megatrafor: | W31: =W29+W34 -> 0.005 | Y31: variação acima da média
V32: Pergunta Megatrafar: | W32: 0.25 | Y32: abaixo
V33: Megatrafor: | W33: 0.4 | Y33: acima
V34: Variação em torno da média de : | W34: 0.005 | Y34: erro nas respostas
B35: MAPA DE AVALIAÇÃO GLOBAL DA CONSCIÊNCIA | X35: NA - Não Aplicado
AA40: 10
B41: 1 | C41: 2 | D41: 3 | E41: 4 | F41: 5 | G41: 6 | H41: 7 | I41: 8 | J41: 9 | K41: 10 | L41: 11 | M41: 12 | N41: 13 | O41: 14 | P41: 15 | Q41: 16 | R41: 17 | S41: 18 | T41: 19 | U41: 20 | V41: SOMA | W41: ST | X41: T | Y41: =SUM(W42:W51)/(IF(COUNTIF(X42:X51,">0")>0,COUNTIF(X42:X51,">0"),1)*20*1) -> 0
A42: 1 | B42: =IF(OR(Respostas!$E5="",Respostas!$E5="Selecione a Nota aqui."),0,Respostas!$E5) -> 0 | C42: =IF(OR(Respostas!$E6="",Respostas!$E6="Selecione a Nota aqui."),0,Respostas!$E6) -> 0 | D42: =IF(OR(Respostas!$E7="",Respostas!$E7="Selecione a Nota aqui."),0,Respostas!$E7) -> 0 | E42: =IF(OR(Respostas!$E8="",Respostas!$E8="Selecione a Nota aqui."),0,Respostas!$E8) -> 0 | F42: =IF(OR(Respostas!$E9="",Respostas!$E9="Selecione a Nota aqui."),0,Respostas!$E9) -> 0 | G42: =IF(OR(Respostas!$E10="",Respostas!$E10="Selecione a Nota aqui."),0,Respostas!$E10) -> 0 | H42: =IF(OR(Respostas!$E11="",Respostas!$E11="Selecione a Nota aqui."),0,Respostas!$E11) -> 0 | I42: =IF(OR(Respostas!$E12="",Respostas!$E12="Selecione a Nota aqui."),0,Respostas!$E12) -> 0 | J42: =IF(OR(Respostas!$E13="",Respostas!$E13="Selecione a Nota aqui."),0,Respostas!$E13) -> 0 | K42: =IF(OR(Respostas!$E14="",Respostas!$E14="Selecione a Nota aqui."),0,Respostas!$E14) -> 0 | L42: =IF(OR(Respostas!$E15="",Respostas!$E15="Selecione a Nota aqui."),0,Respostas!$E15) -> 0 | M42: =IF(OR(Respostas!$E16="",Respostas!$E16="Selecione a Nota aqui."),0,Respostas!$E16) -> 0 | N42: =IF(OR(Respostas!$E17="",Respostas!$E17="Selecione a Nota aqui."),0,Respostas!$E17) -> 0 | O42: =IF(OR(Respostas!$E18="",Respostas!$E18="Selecione a Nota aqui."),0,Respostas!$E18) -> 0 | P42: =IF(OR(Respostas!$E19="",Respostas!$E19="Selecione a Nota aqui."),0,Respostas!$E19) -> 0 | Q42: =IF(OR(Respostas!$E20="",Respostas!$E20="Selecione a Nota aqui."),0,Respostas!$E20) -> 0 | R42: =IF(OR(Respostas!$E21="",Respostas!$E21="Selecione a Nota aqui."),0,Respostas!$E21) -> 0 | S42: =IF(OR(Respostas!$E22="",Respostas!$E22="Selecione a Nota aqui."),0,Respostas!$E22) -> 0 | T42: =IF(OR(Respostas!$E23="",Respostas!$E23="Selecione a Nota aqui."),0,Respostas!$E23) -> 0 | U42: =IF(OR(Respostas!$E24="",Respostas!$E24="Selecione a Nota aqui."),0,Respostas!$E24) -> 0 | V42: Intrassomaticidade (Conscin e Soma) | W42: =IF(COUNTIF(B42:U42,"na")=20,"na",SUM(B42:U42)) -> 0 | X42: =IF(W42="na",0,W42/((20-COUNTIF(B42:U42,"na"))*1)) -> 0 | AD42: =AE42*100 -> 0 | AE42: =X42 -> 0
A43: 2 | B43: =IF(OR(Respostas!$E25="",Respostas!$E25="Selecione a Nota aqui."),0,Respostas!$E25) -> 0 | C43: =IF(OR(Respostas!$E26="",Respostas!$E26="Selecione a Nota aqui."),0,Respostas!$E26) -> 0 | D43: =IF(OR(Respostas!$E27="",Respostas!$E27="Selecione a Nota aqui."),0,Respostas!$E27) -> 0 | E43: =IF(OR(Respostas!$E28="",Respostas!$E28="Selecione a Nota aqui."),0,Respostas!$E28) -> 0 | F43: =IF(OR(Respostas!$E29="",Respostas!$E29="Selecione a Nota aqui."),0,Respostas!$E29) -> 0 | G43: =IF(OR(Respostas!$E30="",Respostas!$E30="Selecione a Nota aqui."),0,Respostas!$E30) -> 0 | H43: =IF(OR(Respostas!$E31="",Respostas!$E31="Selecione a Nota aqui."),0,Respostas!$E31) -> 0 | I43: =IF(OR(Respostas!$E32="",Respostas!$E32="Selecione a Nota aqui."),0,Respostas!$E32) -> 0 | J43: =IF(OR(Respostas!$E33="",Respostas!$E33="Selecione a Nota aqui."),0,Respostas!$E33) -> 0 | K43: =IF(OR(Respostas!$E34="",Respostas!$E34="Selecione a Nota aqui."),0,Respostas!$E34) -> 0 | L43: =IF(OR(Respostas!$E35="",Respostas!$E35="Selecione a Nota aqui."),0,Respostas!$E35) -> 0 | M43: =IF(OR(Respostas!$E36="",Respostas!$E36="Selecione a Nota aqui."),0,Respostas!$E36) -> 0 | N43: =IF(OR(Respostas!$E37="",Respostas!$E37="Selecione a Nota aqui."),0,Respostas!$E37) -> 0 | O43: =IF(OR(Respostas!$E38="",Respostas!$E38="Selecione a Nota aqui."),0,Respostas!$E38) -> 0 | P43: =IF(OR(Respostas!$E39="",Respostas!$E39="Selecione a Nota aqui."),0,Respostas!$E39) -> 0 | Q43: =IF(OR(Respostas!$E40="",Respostas!$E40="Selecione a Nota aqui."),0,Respostas!$E40) -> 0 | R43: =IF(OR(Respostas!$E41="",Respostas!$E41="Selecione a Nota aqui."),0,Respostas!$E41) -> 0 | S43: =IF(OR(Respostas!$E42="",Respostas!$E42="Selecione a Nota aqui."),0,Respostas!$E42) -> 0 | T43: =IF(OR(Respostas!$E43="",Respostas!$E43="Selecione a Nota aqui."),0,Respostas!$E43) -> 0 | U43: =IF(OR(Respostas!$E44="",Respostas!$E44="Selecione a Nota aqui."),0,Respostas!$E44) -> 0 | V43: Hereditariedade (Paragenética e Genética) | W43: =IF(COUNTIF(B43:U43,"na")=20,"na",SUM(B43:U43)) -> 0 | X43: =IF(W43="na",0,W43/((20-COUNTIF(B43:U43,"na"))*1)) -> 0 | AD43: =AE43*100 -> 0
A44: 3 | B44: =IF(OR(Respostas!$E45="",Respostas!$E45="Selecione a Nota aqui."),0,Respostas!$E45) -> 0 | C44: =IF(OR(Respostas!$E46="",Respostas!$E46="Selecione a Nota aqui."),0,Respostas!$E46) -> 0 | D44: =IF(OR(Respostas!$E47="",Respostas!$E47="Selecione a Nota aqui."),0,Respostas!$E47) -> 0 | E44: =IF(OR(Respostas!$E48="",Respostas!$E48="Selecione a Nota aqui."),0,Respostas!$E48) -> 0 | F44: =IF(OR(Respostas!$E49="",Respostas!$E49="Selecione a Nota aqui."),0,Respostas!$E49) -> 0 | G44: =IF(OR(Respostas!$E50="",Respostas!$E50="Selecione a Nota aqui."),0,Respostas!$E50) -> 0 | H44: =IF(OR(Respostas!$E51="",Respostas!$E51="Selecione a Nota aqui."),0,Respostas!$E51) -> 0 | I44: =IF(OR(Respostas!$E52="",Respostas!$E52="Selecione a Nota aqui."),0,Respostas!$E52) -> 0 | J44: =IF(OR(Respostas!$E53="",Respostas!$E53="Selecione a Nota aqui."),0,Respostas!$E53) -> 0 | K44: =IF(OR(Respostas!$E54="",Respostas!$E54="Selecione a Nota aqui."),0,Respostas!$E54) -> 0 | L44: =IF(OR(Respostas!$E55="",Respostas!$E55="Selecione a Nota aqui."),0,Respostas!$E55) -> 0 | M44: =IF(OR(Respostas!$E56="",Respostas!$E56="Selecione a Nota aqui."),0,Respostas!$E56) -> 0 | N44: =IF(OR(Respostas!$E57="",Respostas!$E57="Selecione a Nota aqui."),0,Respostas!$E57) -> 0 | O44: =IF(OR(Respostas!$E58="",Respostas!$E58="Selecione a Nota aqui."),0,Respostas!$E58) -> 0 | P44: =IF(OR(Respostas!$E59="",Respostas!$E59="Selecione a Nota aqui."),0,Respostas!$E59) -> 0 | Q44: =IF(OR(Respostas!$E60="",Respostas!$E60="Selecione a Nota aqui."),0,Respostas!$E60) -> 0 | R44: =IF(OR(Respostas!$E61="",Respostas!$E61="Selecione a Nota aqui."),0,Respostas!$E61) -> 0 | S44: =IF(OR(Respostas!$E62="",Respostas!$E62="Selecione a Nota aqui."),0,Respostas!$E62) -> 0 | T44: =IF(OR(Respostas!$E63="",Respostas!$E63="Selecione a Nota aqui."),0,Respostas!$E63) -> 0 | U44: =IF(OR(Respostas!$E64="",Respostas!$E64="Selecione a Nota aqui."),0,Respostas!$E64) -> 0 | V44: Menoridade (Conscin-criança) | W44: =IF(COUNTIF(B44:U44,"na")=20,"na",SUM(B44:U44)) -> 0 | X44: =IF(W44="na",0,W44/((20-COUNTIF(B44:U44,"na"))*1)) -> 0 | AD44: =AE44*100 -> 0 | AE44: =X43 -> 0
A45: 4 | B45: =IF(OR(Respostas!$E65="",Respostas!$E65="Selecione a Nota aqui."),0,Respostas!$E65) -> 0 | C45: =IF(OR(Respostas!$E66="",Respostas!$E66="Selecione a Nota aqui."),0,Respostas!$E66) -> 0 | D45: =IF(OR(Respostas!$E67="",Respostas!$E67="Selecione a Nota aqui."),0,Respostas!$E67) -> 0 | E45: =IF(OR(Respostas!$E68="",Respostas!$E68="Selecione a Nota aqui."),0,Respostas!$E68) -> 0 | F45: =IF(OR(Respostas!$E69="",Respostas!$E69="Selecione a Nota aqui."),0,Respostas!$E69) -> 0 | G45: =IF(OR(Respostas!$E70="",Respostas!$E70="Selecione a Nota aqui."),0,Respostas!$E70) -> 0 | H45: =IF(OR(Respostas!$E71="",Respostas!$E71="Selecione a Nota aqui."),0,Respostas!$E71) -> 0 | I45: =IF(OR(Respostas!$E72="",Respostas!$E72="Selecione a Nota aqui."),0,Respostas!$E72) -> 0 | J45: =IF(OR(Respostas!$E73="",Respostas!$E73="Selecione a Nota aqui."),0,Respostas!$E73) -> 0 | K45: =IF(OR(Respostas!$E74="",Respostas!$E74="Selecione a Nota aqui."),0,Respostas!$E74) -> 0 | L45: =IF(OR(Respostas!$E75="",Respostas!$E75="Selecione a Nota aqui."),0,Respostas!$E75) -> 0 | M45: =IF(OR(Respostas!$E76="",Respostas!$E76="Selecione a Nota aqui."),0,Respostas!$E76) -> 0 | N45: =IF(OR(Respostas!$E77="",Respostas!$E77="Selecione a Nota aqui."),0,Respostas!$E77) -> 0 | O45: =IF(OR(Respostas!$E78="",Respostas!$E78="Selecione a Nota aqui."),0,Respostas!$E78) -> 0 | P45: =IF(OR(Respostas!$E79="",Respostas!$E79="Selecione a Nota aqui."),0,Respostas!$E79) -> 0 | Q45: =IF(OR(Respostas!$E80="",Respostas!$E80="Selecione a Nota aqui."),0,Respostas!$E80) -> 0 | R45: =IF(OR(Respostas!$E81="",Respostas!$E81="Selecione a Nota aqui."),0,Respostas!$E81) -> 0 | S45: =IF(OR(Respostas!$E82="",Respostas!$E82="Selecione a Nota aqui."),0,Respostas!$E82) -> 0 | T45: =IF(OR(Respostas!$E83="",Respostas!$E83="Selecione a Nota aqui."),0,Respostas!$E83) -> 0 | U45: =IF(OR(Respostas!$E84="",Respostas!$E84="Selecione a Nota aqui."),0,Respostas!$E84) -> 0 | V45: Sexualidade (Conscin-soma e sexo) | W45: =IF(COUNTIF(B45:U45,"na")=20,"na",SUM(B45:U45)) -> 0 | X45: =IF(W45="na",0,W45/((20-COUNTIF(B45:U45,"na"))*1)) -> 0 | AD45: =AE45*100 -> 0
A46: 5 | B46: =IF(OR(Respostas!$E85="",Respostas!$E85="Selecione a Nota aqui."),0,Respostas!$E85) -> 0 | C46: =IF(OR(Respostas!$E86="",Respostas!$E86="Selecione a Nota aqui."),0,Respostas!$E86) -> 0 | D46: =IF(OR(Respostas!$E87="",Respostas!$E87="Selecione a Nota aqui."),0,Respostas!$E87) -> 0 | E46: =IF(OR(Respostas!$E88="",Respostas!$E88="Selecione a Nota aqui."),0,Respostas!$E88) -> 0 | F46: =IF(OR(Respostas!$E89="",Respostas!$E89="Selecione a Nota aqui."),0,Respostas!$E89) -> 0 | G46: =IF(OR(Respostas!$E90="",Respostas!$E90="Selecione a Nota aqui."),0,Respostas!$E90) -> 0 | H46: =IF(OR(Respostas!$E91="",Respostas!$E91="Selecione a Nota aqui."),0,Respostas!$E91) -> 0 | I46: =IF(OR(Respostas!$E92="",Respostas!$E92="Selecione a Nota aqui."),0,Respostas!$E92) -> 0 | J46: =IF(OR(Respostas!$E93="",Respostas!$E93="Selecione a Nota aqui."),0,Respostas!$E93) -> 0 | K46: =IF(OR(Respostas!$E94="",Respostas!$E94="Selecione a Nota aqui."),0,Respostas!$E94) -> 0 | L46: =IF(OR(Respostas!$E95="",Respostas!$E95="Selecione a Nota aqui."),0,Respostas!$E95) -> 0 | M46: =IF(OR(Respostas!$E96="",Respostas!$E96="Selecione a Nota aqui."),0,Respostas!$E96) -> 0 | N46: =IF(OR(Respostas!$E97="",Respostas!$E97="Selecione a Nota aqui."),0,Respostas!$E97) -> 0 | O46: =IF(OR(Respostas!$E98="",Respostas!$E98="Selecione a Nota aqui."),0,Respostas!$E98) -> 0 | P46: =IF(OR(Respostas!$E99="",Respostas!$E99="Selecione a Nota aqui."),0,Respostas!$E99) -> 0 | Q46: =IF(OR(Respostas!$E100="",Respostas!$E100="Selecione a Nota aqui."),0,Respostas!$E100) -> 0 | R46: =IF(OR(Respostas!$E101="",Respostas!$E101="Selecione a Nota aqui."),0,Respostas!$E101) -> 0 | S46: =IF(OR(Respostas!$E102="",Respostas!$E102="Selecione a Nota aqui."),0,Respostas!$E102) -> 0 | T46: =IF(OR(Respostas!$E103="",Respostas!$E103="Selecione a Nota aqui."),0,Respostas!$E103) -> 0 | U46: =IF(OR(Respostas!$E104="",Respostas!$E104="Selecione a Nota aqui."),0,Respostas!$E104) -> 0 | V46: Mocidade (Conscin-jovem) | W46: =IF(COUNTIF(B46:U46,"na")=20,"na",SUM(B46:U46)) -> 0 | X46: =IF(W46="na",0,W46/((20-COUNTIF(B46:U46,"na"))*1)) -> 0 | AD46: =AE46*100 -> 0 | AE46: =X44 -> 0
A47: 6 | B47: =IF(OR(Respostas!$E105="",Respostas!$E105="Selecione a Nota aqui."),0,Respostas!$E105) -> 0 | C47: =IF(OR(Respostas!$E106="",Respostas!$E106="Selecione a Nota aqui."),0,Respostas!$E106) -> 0 | D47: =IF(OR(Respostas!$E107="",Respostas!$E107="Selecione a Nota aqui."),0,Respostas!$E107) -> 0 | E47: =IF(OR(Respostas!$E108="",Respostas!$E108="Selecione a Nota aqui."),0,Respostas!$E108) -> 0 | F47: =IF(OR(Respostas!$E109="",Respostas!$E109="Selecione a Nota aqui."),0,Respostas!$E109) -> 0 | G47: =IF(OR(Respostas!$E110="",Respostas!$E110="Selecione a Nota aqui."),0,Respostas!$E110) -> 0 | H47: =IF(OR(Respostas!$E111="",Respostas!$E111="Selecione a Nota aqui."),0,Respostas!$E111) -> 0 | I47: =IF(OR(Respostas!$E112="",Respostas!$E112="Selecione a Nota aqui."),0,Respostas!$E112) -> 0 | J47: =IF(OR(Respostas!$E113="",Respostas!$E113="Selecione a Nota aqui."),0,Respostas!$E113) -> 0 | K47: =IF(OR(Respostas!$E114="",Respostas!$E114="Selecione a Nota aqui."),0,Respostas!$E114) -> 0 | L47: =IF(OR(Respostas!$E115="",Respostas!$E115="Selecione a Nota aqui."),0,Respostas!$E115) -> 0 | M47: =IF(OR(Respostas!$E116="",Respostas!$E116="Selecione a Nota aqui."),0,Respostas!$E116) -> 0 | N47: =IF(OR(Respostas!$E117="",Respostas!$E117="Selecione a Nota aqui."),0,Respostas!$E117) -> 0 | O47: =IF(OR(Respostas!$E118="",Respostas!$E118="Selecione a Nota aqui."),0,Respostas!$E118) -> 0 | P47: =IF(OR(Respostas!$E119="",Respostas!$E119="Selecione a Nota aqui."),0,Respostas!$E119) -> 0 | Q47: =IF(OR(Respostas!$E120="",Respostas!$E120="Selecione a Nota aqui."),0,Respostas!$E120) -> 0 | R47: =IF(OR(Respostas!$E121="",Respostas!$E121="Selecione a Nota aqui."),0,Respostas!$E121) -> 0 | S47: =IF(OR(Respostas!$E122="",Respostas!$E122="Selecione a Nota aqui."),0,Respostas!$E122) -> 0 | T47: =IF(OR(Respostas!$E123="",Respostas!$E123="Selecione a Nota aqui."),0,Respostas!$E123) -> 0 | U47: =IF(OR(Respostas!$E124="",Respostas!$E124="Selecione a Nota aqui."),0,Respostas!$E124) -> 0 | V47: Psicomotricidade (Neurônios e massa muscular) | W47: =IF(COUNTIF(B47:U47,"na")=20,"na",SUM(B47:U47)) -> 0 | X47: =IF(W47="na",0,W47/((20-COUNTIF(B47:U47,"na"))*1)) -> 0 | AD47: =AE47*100 -> 0
A48: 7 | B48: =IF(OR(Respostas!$E125="",Respostas!$E125="Selecione a Nota aqui."),0,Respostas!$E125) -> 0 | C48: =IF(OR(Respostas!$E126="",Respostas!$E126="Selecione a Nota aqui."),0,Respostas!$E126) -> 0 | D48: =IF(OR(Respostas!$E127="",Respostas!$E127="Selecione a Nota aqui."),0,Respostas!$E127) -> 0 | E48: =IF(OR(Respostas!$E128="",Respostas!$E128="Selecione a Nota aqui."),0,Respostas!$E128) -> 0 | F48: =IF(OR(Respostas!$E129="",Respostas!$E129="Selecione a Nota aqui."),0,Respostas!$E129) -> 0 | G48: =IF(OR(Respostas!$E130="",Respostas!$E130="Selecione a Nota aqui."),0,Respostas!$E130) -> 0 | H48: =IF(OR(Respostas!$E131="",Respostas!$E131="Selecione a Nota aqui."),0,Respostas!$E131) -> 0 | I48: =IF(OR(Respostas!$E132="",Respostas!$E132="Selecione a Nota aqui."),0,Respostas!$E132) -> 0 | J48: =IF(OR(Respostas!$E133="",Respostas!$E133="Selecione a Nota aqui."),0,Respostas!$E133) -> 0 | K48: =IF(OR(Respostas!$E134="",Respostas!$E134="Selecione a Nota aqui."),0,Respostas!$E134) -> 0 | L48: =IF(OR(Respostas!$E135="",Respostas!$E135="Selecione a Nota aqui."),0,Respostas!$E135) -> 0 | M48: =IF(OR(Respostas!$E136="",Respostas!$E136="Selecione a Nota aqui."),0,Respostas!$E136) -> 0 | N48: =IF(OR(Respostas!$E137="",Respostas!$E137="Selecione a Nota aqui."),0,Respostas!$E137) -> 0 | O48: =IF(OR(Respostas!$E138="",Respostas!$E138="Selecione a Nota aqui."),0,Respostas!$E138) -> 0 | P48: =IF(OR(Respostas!$E139="",Respostas!$E139="Selecione a Nota aqui."),0,Respostas!$E139) -> 0 | Q48: =IF(OR(Respostas!$E140="",Respostas!$E140="Selecione a Nota aqui."),0,Respostas!$E140) -> 0 | R48: =IF(OR(Respostas!$E141="",Respostas!$E141="Selecione a Nota aqui."),0,Respostas!$E141) -> 0 | S48: =IF(OR(Respostas!$E142="",Respostas!$E142="Selecione a Nota aqui."),0,Respostas!$E142) -> 0 | T48: =IF(OR(Respostas!$E143="",Respostas!$E143="Selecione a Nota aqui."),0,Respostas!$E143) -> 0 | U48: =IF(OR(Respostas!$E144="",Respostas!$E144="Selecione a Nota aqui."),0,Respostas!$E144) -> 0 | V48: Escolaridade (Curriculo pessoal) | W48: =IF(COUNTIF(B48:U48,"na")=20,"na",SUM(B48:U48)) -> 0 | X48: =IF(W48="na",0,W48/((20-COUNTIF(B48:U48,"na"))*1)) -> 0 | AD48: =AE48*100 -> 0 | AE48: =X45 -> 0
A49: 8 | B49: =IF(OR(Respostas!$E145="",Respostas!$E145="Selecione a Nota aqui."),0,Respostas!$E145) -> 0 | C49: =IF(OR(Respostas!$E146="",Respostas!$E146="Selecione a Nota aqui."),0,Respostas!$E146) -> 0 | D49: =IF(OR(Respostas!$E147="",Respostas!$E147="Selecione a Nota aqui."),0,Respostas!$E147) -> 0 | E49: =IF(OR(Respostas!$E148="",Respostas!$E148="Selecione a Nota aqui."),0,Respostas!$E148) -> 0 | F49: =IF(OR(Respostas!$E149="",Respostas!$E149="Selecione a Nota aqui."),0,Respostas!$E149) -> 0 | G49: =IF(OR(Respostas!$E150="",Respostas!$E150="Selecione a Nota aqui."),0,Respostas!$E150) -> 0 | H49: =IF(OR(Respostas!$E151="",Respostas!$E151="Selecione a Nota aqui."),0,Respostas!$E151) -> 0 | I49: =IF(OR(Respostas!$E152="",Respostas!$E152="Selecione a Nota aqui."),0,Respostas!$E152) -> 0 | J49: =IF(OR(Respostas!$E153="",Respostas!$E153="Selecione a Nota aqui."),0,Respostas!$E153) -> 0 | K49: =IF(OR(Respostas!$E154="",Respostas!$E154="Selecione a Nota aqui."),0,Respostas!$E154) -> 0 | L49: =IF(OR(Respostas!$E155="",Respostas!$E155="Selecione a Nota aqui."),0,Respostas!$E155) -> 0 | M49: =IF(OR(Respostas!$E156="",Respostas!$E156="Selecione a Nota aqui."),0,Respostas!$E156) -> 0 | N49: =IF(OR(Respostas!$E157="",Respostas!$E157="Selecione a Nota aqui."),0,Respostas!$E157) -> 0 | O49: =IF(OR(Respostas!$E158="",Respostas!$E158="Selecione a Nota aqui."),0,Respostas!$E158) -> 0 | P49: =IF(OR(Respostas!$E159="",Respostas!$E159="Selecione a Nota aqui."),0,Respostas!$E159) -> 0 | Q49: =IF(OR(Respostas!$E160="",Respostas!$E160="Selecione a Nota aqui."),0,Respostas!$E160) -> 0 | R49: =IF(OR(Respostas!$E161="",Respostas!$E161="Selecione a Nota aqui."),0,Respostas!$E161) -> 0 | S49: =IF(OR(Respostas!$E162="",Respostas!$E162="Selecione a Nota aqui."),0,Respostas!$E162) -> 0 | T49: =IF(OR(Respostas!$E163="",Respostas!$E163="Selecione a Nota aqui."),0,Respostas!$E163) -> 0 | U49: =IF(OR(Respostas!$E164="",Respostas!$E164="Selecione a Nota aqui."),0,Respostas!$E164) -> 0 | V49: Compaternidade (Conscin e Família) | W49: =IF(COUNTIF(B49:U49,"na")=20,"na",SUM(B49:U49)) -> 0 | X49: =IF(W49="na",0,W49/((20-COUNTIF(B49:U49,"na"))*1)) -> 0 | AD49: =AE49*100 -> 0
A50: 9 | B50: =IF(OR(Respostas!$E165="",Respostas!$E165="Selecione a Nota aqui."),0,Respostas!$E165) -> 0 | C50: =IF(OR(Respostas!$E166="",Respostas!$E166="Selecione a Nota aqui."),0,Respostas!$E166) -> 0 | D50: =IF(OR(Respostas!$E167="",Respostas!$E167="Selecione a Nota aqui."),0,Respostas!$E167) -> 0 | E50: =IF(OR(Respostas!$E168="",Respostas!$E168="Selecione a Nota aqui."),0,Respostas!$E168) -> 0 | F50: =IF(OR(Respostas!$E169="",Respostas!$E169="Selecione a Nota aqui."),0,Respostas!$E169) -> 0 | G50: =IF(OR(Respostas!$E170="",Respostas!$E170="Selecione a Nota aqui."),0,Respostas!$E170) -> 0 | H50: =IF(OR(Respostas!$E171="",Respostas!$E171="Selecione a Nota aqui."),0,Respostas!$E171) -> 0 | I50: =IF(OR(Respostas!$E172="",Respostas!$E172="Selecione a Nota aqui."),0,Respostas!$E172) -> 0 | J50: =IF(OR(Respostas!$E173="",Respostas!$E173="Selecione a Nota aqui."),0,Respostas!$E173) -> 0 | K50: =IF(OR(Respostas!$E174="",Respostas!$E174="Selecione a Nota aqui."),0,Respostas!$E174) -> 0 | L50: =IF(OR(Respostas!$E175="",Respostas!$E175="Selecione a Nota aqui."),0,Respostas!$E175) -> 0 | M50: =IF(OR(Respostas!$E176="",Respostas!$E176="Selecione a Nota aqui."),0,Respostas!$E176) -> 0 | N50: =IF(OR(Respostas!$E177="",Respostas!$E177="Selecione a Nota aqui."),0,Respostas!$E177) -> 0 | O50: =IF(OR(Respostas!$E178="",Respostas!$E178="Selecione a Nota aqui."),0,Respostas!$E178) -> 0 | P50: =IF(OR(Respostas!$E179="",Respostas!$E179="Selecione a Nota aqui."),0,Respostas!$E179) -> 0 | Q50: =IF(OR(Respostas!$E180="",Respostas!$E180="Selecione a Nota aqui."),0,Respostas!$E180) -> 0 | R50: =IF(OR(Respostas!$E181="",Respostas!$E181="Selecione a Nota aqui."),0,Respostas!$E181) -> 0 | S50: =IF(OR(Respostas!$E182="",Respostas!$E182="Selecione a Nota aqui."),0,Respostas!$E182) -> 0 | T50: =IF(OR(Respostas!$E183="",Respostas!$E183="Selecione a Nota aqui."),0,Respostas!$E183) -> 0 | U50: =IF(OR(Respostas!$E184="",Respostas!$E184="Selecione a Nota aqui."),0,Respostas!$E184) -> 0 | V50: Convivialidade (Ligações cosmoéticas) | W50: =IF(COUNTIF(B50:U50,"na")=20,"na",SUM(B50:U50)) -> 0 | X50: =IF(W50="na",0,W50/((20-COUNTIF(B50:U50,"na"))*1)) -> 0 | AC50: =V41 -> SOMA | AD50: =AE50*100 -> 0 | AE50: =X46 -> 0
A51: 10 | B51: =IF(OR(Respostas!$E185="",Respostas!$E185="Selecione a Nota aqui."),0,Respostas!$E185) -> 0 | C51: =IF(OR(Respostas!$E186="",Respostas!$E186="Selecione a Nota aqui."),0,Respostas!$E186) -> 0 | D51: =IF(OR(Respostas!$E187="",Respostas!$E187="Selecione a Nota aqui."),0,Respostas!$E187) -> 0 | E51: =IF(OR(Respostas!$E188="",Respostas!$E188="Selecione a Nota aqui."),0,Respostas!$E188) -> 0 | F51: =IF(OR(Respostas!$E189="",Respostas!$E189="Selecione a Nota aqui."),0,Respostas!$E189) -> 0 | G51: =IF(OR(Respostas!$E190="",Respostas!$E190="Selecione a Nota aqui."),0,Respostas!$E190) -> 0 | H51: =IF(OR(Respostas!$E191="",Respostas!$E191="Selecione a Nota aqui."),0,Respostas!$E191) -> 0 | I51: =IF(OR(Respostas!$E192="",Respostas!$E192="Selecione a Nota aqui."),0,Respostas!$E192) -> 0 | J51: =IF(OR(Respostas!$E193="",Respostas!$E193="Selecione a Nota aqui."),0,Respostas!$E193) -> 0 | K51: =IF(OR(Respostas!$E194="",Respostas!$E194="Selecione a Nota aqui."),0,Respostas!$E194) -> 0 | L51: =IF(OR(Respostas!$E195="",Respostas!$E195="Selecione a Nota aqui."),0,Respostas!$E195) -> 0 | M51: =IF(OR(Respostas!$E196="",Respostas!$E196="Selecione a Nota aqui."),0,Respostas!$E196) -> 0 | N51: =IF(OR(Respostas!$E197="",Respostas!$E197="Selecione a Nota aqui."),0,Respostas!$E197) -> 0 | O51: =IF(OR(Respostas!$E198="",Respostas!$E198="Selecione a Nota aqui."),0,Respostas!$E198) -> 0 | P51: =IF(OR(Respostas!$E199="",Respostas!$E199="Selecione a Nota aqui."),0,Respostas!$E199) -> 0 | Q51: =IF(OR(Respostas!$E200="",Respostas!$E200="Selecione a Nota aqui."),0,Respostas!$E200) -> 0 | R51: =IF(OR(Respostas!$E201="",Respostas!$E201="Selecione a Nota aqui."),0,Respostas!$E201) -> 0 | S51: =IF(OR(Respostas!$E202="",Respostas!$E202="Selecione a Nota aqui."),0,Respostas!$E202) -> 0 | T51: =IF(OR(Respostas!$E203="",Respostas!$E203="Selecione a Nota aqui."),0,Respostas!$E203) -> 0 | U51: =IF(OR(Respostas!$E204="",Respostas!$E204="Selecione a Nota aqui."),0,Respostas!$E204) -> 0 | V51: Longevidade (Terceira idade) | W51: =IF(COUNTIF(B51:U51,"na")=20,"na",SUM(B51:U51)) -> 0 | X51: =IF(W51="na",0,W51/((20-COUNTIF(B51:U51,"na"))*1)) -> 0 | AD51: =AE51*100 -> 0
AD52: =AE52*100 -> 0 | AE52: =X47 -> 0
B53: 1 | C53: 2 | D53: 3 | E53: 4 | F53: 5 | G53: 6 | H53: 7 | I53: 8 | J53: 9 | K53: 10 | L53: 11 | M53: 12 | N53: 13 | O53: 14 | P53: 15 | Q53: 16 | R53: 17 | S53: 18 | T53: 19 | U53: 20 | V53: BIOENERGÉTICA | W53: ST | X53: T | Y53: =SUM(W54:W63)/(IF(COUNTIF(X54:X63,">0")>0,COUNTIF(X54:X63,">0"),1)*20*1) -> 0 | AD53: =AE53*100 -> 0
A54: 11 | B54: =IF(OR(Respostas!$E205="",Respostas!$E205="Selecione a Nota aqui."),0,Respostas!$E205) -> 0 | C54: =IF(OR(Respostas!$E206="",Respostas!$E206="Selecione a Nota aqui."),0,Respostas!$E206) -> 0 | D54: =IF(OR(Respostas!$E207="",Respostas!$E207="Selecione a Nota aqui."),0,Respostas!$E207) -> 0 | E54: =IF(OR(Respostas!$E208="",Respostas!$E208="Selecione a Nota aqui."),0,Respostas!$E208) -> 0 | F54: =IF(OR(Respostas!$E209="",Respostas!$E209="Selecione a Nota aqui."),0,Respostas!$E209) -> 0 | G54: =IF(OR(Respostas!$E210="",Respostas!$E210="Selecione a Nota aqui."),0,Respostas!$E210) -> 0 | H54: =IF(OR(Respostas!$E211="",Respostas!$E211="Selecione a Nota aqui."),0,Respostas!$E211) -> 0 | I54: =IF(OR(Respostas!$E212="",Respostas!$E212="Selecione a Nota aqui."),0,Respostas!$E212) -> 0 | J54: =IF(OR(Respostas!$E213="",Respostas!$E213="Selecione a Nota aqui."),0,Respostas!$E213) -> 0 | K54: =IF(OR(Respostas!$E214="",Respostas!$E214="Selecione a Nota aqui."),0,Respostas!$E214) -> 0 | L54: =IF(OR(Respostas!$E215="",Respostas!$E215="Selecione a Nota aqui."),0,Respostas!$E215) -> 0 | M54: =IF(OR(Respostas!$E216="",Respostas!$E216="Selecione a Nota aqui."),0,Respostas!$E216) -> 0 | N54: =IF(OR(Respostas!$E217="",Respostas!$E217="Selecione a Nota aqui."),0,Respostas!$E217) -> 0 | O54: =IF(OR(Respostas!$E218="",Respostas!$E218="Selecione a Nota aqui."),0,Respostas!$E218) -> 0 | P54: =IF(OR(Respostas!$E219="",Respostas!$E219="Selecione a Nota aqui."),0,Respostas!$E219) -> 0 | Q54: =IF(OR(Respostas!$E220="",Respostas!$E220="Selecione a Nota aqui."),0,Respostas!$E220) -> 0 | R54: =IF(OR(Respostas!$E221="",Respostas!$E221="Selecione a Nota aqui."),0,Respostas!$E221) -> 0 | S54: =IF(OR(Respostas!$E222="",Respostas!$E222="Selecione a Nota aqui."),0,Respostas!$E222) -> 0 | T54: =IF(OR(Respostas!$E223="",Respostas!$E223="Selecione a Nota aqui."),0,Respostas!$E223) -> 0 | U54: =IF(OR(Respostas!$E224="",Respostas!$E224="Selecione a Nota aqui."),0,Respostas!$E224) -> 0 | V54: Sensibilidade (Energias conscienciais) | W54: =IF(COUNTIF(B54:U54,"na")=20,"na",SUM(B54:U54)) -> 0 | X54: =IF(W54="na",0,W54/((20-COUNTIF(B54:U54,"na"))*1)) -> 0 | AD54: =AE54*100 -> 0 | AE54: =X48 -> 0
A55: 12 | B55: =IF(OR(Respostas!$E225="",Respostas!$E225="Selecione a Nota aqui."),0,Respostas!$E225) -> 0 | C55: =IF(OR(Respostas!$E226="",Respostas!$E226="Selecione a Nota aqui."),0,Respostas!$E226) -> 0 | D55: =IF(OR(Respostas!$E227="",Respostas!$E227="Selecione a Nota aqui."),0,Respostas!$E227) -> 0 | E55: =IF(OR(Respostas!$E228="",Respostas!$E228="Selecione a Nota aqui."),0,Respostas!$E228) -> 0 | F55: =IF(OR(Respostas!$E229="",Respostas!$E229="Selecione a Nota aqui."),0,Respostas!$E229) -> 0 | G55: =IF(OR(Respostas!$E230="",Respostas!$E230="Selecione a Nota aqui."),0,Respostas!$E230) -> 0 | H55: =IF(OR(Respostas!$E231="",Respostas!$E231="Selecione a Nota aqui."),0,Respostas!$E231) -> 0 | I55: =IF(OR(Respostas!$E232="",Respostas!$E232="Selecione a Nota aqui."),0,Respostas!$E232) -> 0 | J55: =IF(OR(Respostas!$E233="",Respostas!$E233="Selecione a Nota aqui."),0,Respostas!$E233) -> 0 | K55: =IF(OR(Respostas!$E234="",Respostas!$E234="Selecione a Nota aqui."),0,Respostas!$E234) -> 0 | L55: =IF(OR(Respostas!$E235="",Respostas!$E235="Selecione a Nota aqui."),0,Respostas!$E235) -> 0 | M55: =IF(OR(Respostas!$E236="",Respostas!$E236="Selecione a Nota aqui."),0,Respostas!$E236) -> 0 | N55: =IF(OR(Respostas!$E237="",Respostas!$E237="Selecione a Nota aqui."),0,Respostas!$E237) -> 0 | O55: =IF(OR(Respostas!$E238="",Respostas!$E238="Selecione a Nota aqui."),0,Respostas!$E238) -> 0 | P55: =IF(OR(Respostas!$E239="",Respostas!$E239="Selecione a Nota aqui."),0,Respostas!$E239) -> 0 | Q55: =IF(OR(Respostas!$E240="",Respostas!$E240="Selecione a Nota aqui."),0,Respostas!$E240) -> 0 | R55: =IF(OR(Respostas!$E241="",Respostas!$E241="Selecione a Nota aqui."),0,Respostas!$E241) -> 0 | S55: =IF(OR(Respostas!$E242="",Respostas!$E242="Selecione a Nota aqui."),0,Respostas!$E242) -> 0 | T55: =IF(OR(Respostas!$E243="",Respostas!$E243="Selecione a Nota aqui."),0,Respostas!$E243) -> 0 | U55: =IF(OR(Respostas!$E244="",Respostas!$E244="Selecione a Nota aqui."),0,Respostas!$E244) -> 0 | V55: Sexochacralidade (Conscin e sexochacra) | W55: =IF(COUNTIF(B55:U55,"na")=20,"na",SUM(B55:U55)) -> 0 | X55: =IF(W55="na",0,W55/((20-COUNTIF(B55:U55,"na"))*1)) -> 0 | AD55: =AE55*100 -> 0
A56: 13 | B56: =IF(OR(Respostas!$E245="",Respostas!$E245="Selecione a Nota aqui."),0,Respostas!$E245) -> 0 | C56: =IF(OR(Respostas!$E246="",Respostas!$E246="Selecione a Nota aqui."),0,Respostas!$E246) -> 0 | D56: =IF(OR(Respostas!$E247="",Respostas!$E247="Selecione a Nota aqui."),0,Respostas!$E247) -> 0 | E56: =IF(OR(Respostas!$E248="",Respostas!$E248="Selecione a Nota aqui."),0,Respostas!$E248) -> 0 | F56: =IF(OR(Respostas!$E249="",Respostas!$E249="Selecione a Nota aqui."),0,Respostas!$E249) -> 0 | G56: =IF(OR(Respostas!$E250="",Respostas!$E250="Selecione a Nota aqui."),0,Respostas!$E250) -> 0 | H56: =IF(OR(Respostas!$E251="",Respostas!$E251="Selecione a Nota aqui."),0,Respostas!$E251) -> 0 | I56: =IF(OR(Respostas!$E252="",Respostas!$E252="Selecione a Nota aqui."),0,Respostas!$E252) -> 0 | J56: =IF(OR(Respostas!$E253="",Respostas!$E253="Selecione a Nota aqui."),0,Respostas!$E253) -> 0 | K56: =IF(OR(Respostas!$E254="",Respostas!$E254="Selecione a Nota aqui."),0,Respostas!$E254) -> 0 | L56: =IF(OR(Respostas!$E255="",Respostas!$E255="Selecione a Nota aqui."),0,Respostas!$E255) -> 0 | M56: =IF(OR(Respostas!$E256="",Respostas!$E256="Selecione a Nota aqui."),0,Respostas!$E256) -> 0 | N56: =IF(OR(Respostas!$E257="",Respostas!$E257="Selecione a Nota aqui."),0,Respostas!$E257) -> 0 | O56: =IF(OR(Respostas!$E258="",Respostas!$E258="Selecione a Nota aqui."),0,Respostas!$E258) -> 0 | P56: =IF(OR(Respostas!$E259="",Respostas!$E259="Selecione a Nota aqui."),0,Respostas!$E259) -> 0 | Q56: =IF(OR(Respostas!$E260="",Respostas!$E260="Selecione a Nota aqui."),0,Respostas!$E260) -> 0 | R56: =IF(OR(Respostas!$E261="",Respostas!$E261="Selecione a Nota aqui."),0,Respostas!$E261) -> 0 | S56: =IF(OR(Respostas!$E262="",Respostas!$E262="Selecione a Nota aqui."),0,Respostas!$E262) -> 0 | T56: =IF(OR(Respostas!$E263="",Respostas!$E263="Selecione a Nota aqui."),0,Respostas!$E263) -> 0 | U56: =IF(OR(Respostas!$E264="",Respostas!$E264="Selecione a Nota aqui."),0,Respostas!$E264) -> 0 | V56: Vitalidade (Subcérebro abdominal) | W56: =IF(COUNTIF(B56:U56,"na")=20,"na",SUM(B56:U56)) -> 0 | X56: =IF(W56="na",0,W56/((20-COUNTIF(B56:U56,"na"))*1)) -> 0 | AD56: =AE56*100 -> 0 | AE56: =X49 -> 0
...

Sheet  Qualidade (Notas)
A1: 0 | B1: ANÁLISE DAS FOLHAS DE AVALIAÇÃO DA CONSCIÊNCIA
C2: ORDENE A TABELA POR ORDEM DE NOTA
A3: ITEM | B3: VARIÁVEL | C3: FA | D3: QUALIDADE | E3: NOTA | F3: ST
A4: 6 | B4: SOMA | C4: 6 | D4: =Analise!V47 -> Psicomotricidade (Neurônios e massa muscular) | E4: =Analise!$X$47 -> 0 | F4: =Analise!$W$47 -> 0
A5: 64 | B5: PRIORIZAÇÃO | C5: 64 | D5: =Analise!V117 -> Economicidade (Conscin e cifrões) | E5: =Analise!$X$117 -> 0 | F5: =Analise!$W$117 -> 0
A6: 5 | B6: SOMA | C6: 5 | D6: =Analise!V46 -> Mocidade (Conscin-jovem) | E6: =Analise!$X$46 -> 0 | F6: =Analise!$W$46 -> 0
A7: 94 | B7: UNIVERSALIDADE | C7: 94 | D7: =Analise!V153 -> Autenticidade (Conscin e demagogias) | E7: =Analise!$X$153 -> 0 | F7: =Analise!$W$153 -> 0
A8: 1 | B8: =Analise!V41 -> SOMA | C8: 1 | D8: =Analise!V42 -> Intrassomaticidade (Conscin e Soma) | E8: =Analise!$X$42 -> 0 | F8: =Analise!$W$42 -> 0
A9: 26 | B9: ANTIEMOCIONALIDADE | C9: 26 | D9: =Analise!V71 -> Profundidade (Auto-educação e superstições) | E9: =Analise!$X$71 -> 0 | F9: =Analise!$W$71 -> 0
A10: 18 | B10: BIOENERGÉTICA | C10: 18 | D10: =Analise!V61 -> Aquisitividade (Auto-apego e autodesapego) | E10: =Analise!$X$61 -> 0 | F10: =Analise!$W$61 -> 0
A11: 27 | B11: ANTIEMOCIONALIDADE | C11: 27 | D11: =Analise!V72 -> Influenciabilidade (Conscin-satélite) | E11: =Analise!$X$72 -> 0 | F11: =Analise!$W$72 -> 0
A12: 52 | B12: COMUNICABILIDADE | C12: 52 | D12: =Analise!V103 -> Maxicomunicabilidade (Conscin e linguagem) | E12: =Analise!$X$103 -> 0 | F12: =Analise!$W$103 -> 0
A13: 16 | B13: BIOENERGÉTICA | C13: 16 | D13: =Analise!V59 -> Sanidade (Homeostase da conscin) | E13: =Analise!$X$59 -> 0 | F13: =Analise!$W$59 -> 0
A14: 89 | B14: CONSCIENCIALIDADE | C14: 89 | D14: =Analise!V146 -> Interconsciencialidade (Famílias conscienciais) | E14: =Analise!$X$146 -> 0 | F14: =Analise!$W$146 -> 0
A15: 22 | B15: ANTIEMOCIONALIDADE | C15: 22 | D15: =Analise!V67 -> Potencialidade (Coragem da consciência) | E15: =Analise!$X$67 -> 0 | F15: =Analise!$W$67 -> 0
A16: 53 | B16: COMUNICABILIDADE | C16: 53 | D16: =Analise!V104 -> Realidade (Conscin e simbologismos) | E16: =Analise!$X$104 -> 0 | F16: =Analise!$W$104 -> 0
A17: 29 | B17: ANTIEMOCIONALIDADE | C17: 29 | D17: =Analise!V74 -> Transcendentalidade (Conscin e misticismo) | E17: =Analise!$X$74 -> 0 | F17: =Analise!$W$74 -> 0
A18: 59 | B18: COMUNICABILIDADE | C18: 59 | D18: =Analise!V110 -> Exotericidade (Conscin e abertismo) | E18: =Analise!$X$110 -> 0 | F18: =Analise!$W$110 -> 0
A19: 65 | B19: PRIORIZAÇÃO | C19: 65 | D19: =Analise!V118 -> Profissionalidade (Ocupação e subsistências) | E19: =Analise!$X$118 -> 0 | F19: =Analise!$W$118 -> 0
A20: 88 | B20: CONSCIENCIALIDADE | C20: 88 | D20: =Analise!V145 -> Pacificidade (Conscin e antibelicismo) | E20: =Analise!$X$145 -> 0 | F20: =Analise!$W$145 -> 0
A21: 4 | B21: SOMA | C21: 4 | D21: =Analise!V45 -> Sexualidade (Conscin-soma e sexo) | E21: =Analise!$X$45 -> 0 | F21: =Analise!$W$45 -> 0
A22: 2 | B22: SOMA | C22: 2 | D22: =Analise!V43 -> Hereditariedade (Paragenética e Genética) | E22: =Analise!$X$43 -> 0 | F22: =Analise!$W$43 -> 0
A23: 7 | B23: SOMA | C23: 7 | D23: =Analise!V48 -> Escolaridade (Curriculo pessoal) | E23: =Analise!$X$48 -> 0 | F23: =Analise!$W$48 -> 0
A24: 93 | B24: UNIVERSALIDADE | C24: 93 | D24: =Analise!V152 -> Maxiuniversalidade (Conscin e anti-sectarismo) | E24: =Analise!$X$152 -> 0 | F24: =Analise!$W$152 -> 0
A25: 9 | B25: SOMA | C25: 9 | D25: =Analise!V50 -> Convivialidade (Ligações cosmoéticas) | E25: =Analise!$X$50 -> 0 | F25: =Analise!$W$50 -> 0
A26: 51 | B26: =Analise!V101 -> COMUNICABILIDADE | C26: 51 | D26: =Analise!V102 -> Sociabilidade (Contactos da consciência) | E26: =Analise!$X$102 -> 0 | F26: =Analise!$W$102 -> 0
A27: 78 | B27: COERÊNCIA | C27: 78 | D27: =Analise!V133 -> Competitividade (Conscin e concorrência) | E27: =Analise!$X$133 -> 0 | F27: =Analise!$W$133 -> 0
A28: 32 | B28: RACIONALIDADE | C28: 32 | D28: =Analise!V79 -> Racionalidade (Conscin e mentalsoma) | E28: =Analise!$X$79 -> 0 | F28: =Analise!$W$79 -> 0
A29: 41 | B29: =Analise!V89 -> LIDERANÇA | C29: 41 | D29: =Analise!V90 -> Autoridade (Poder de condução) | E29: =Analise!$X$90 -> 0 | F29: =Analise!$W$90 -> 0
A30: 63 | B30: PRIORIZAÇÃO | C30: 63 | D30: =Analise!V116 -> Operosidade (Trabalhos pessoais) | E30: =Analise!$X$116 -> 0 | F30: =Analise!$W$116 -> 0
A31: 44 | B31: LIDERANÇA | C31: 44 | D31: =Analise!V93 -> Retratabilidade (Autojulgamentos públicos) | E31: =Analise!$X$93 -> 0 | F31: =Analise!$W$93 -> 0
A32: 86 | B32: CONSCIENCIALIDADE | C32: 86 | D32: =Analise!V143 -> Imediatividade (Poderes materiais) | E32: =Analise!$X$143 -> 0 | F32: =Analise!$W$143 -> 0
A33: 92 | B33: UNIVERSALIDADE | C33: 92 | D33: =Analise!V151 -> Apatricidade (Consciência e cidadania) | E33: =Analise!$X$151 -> 0 | F33: =Analise!$W$151 -> 0
A34: 33 | B34: RACIONALIDADE | C34: 33 | D34: =Analise!V80 -> Intelectualidade (Conscin e inteligências) | E34: =Analise!$X$80 -> 0 | F34: =Analise!$W$80 -> 0
A35: 37 | B35: RACIONALIDADE | C35: 37 | D35: =Analise!V84 -> Imperturbalidade (Conscin e autocontrole) | E35: =Analise!$X$84 -> 0 | F35: =Analise!$W$84 -> 0
A36: 98 | B36: UNIVERSALIDADE | C36: 98 | D36: =Analise!V157 -> Inseparabilidade (Conscin e interdependências) | E36: =Analise!$X$157 -> 0 | F36: =Analise!$W$157 -> 0
A37: 77 | B37: COERÊNCIA | C37: 77 | D37: =Analise!V132 -> Veracidade (Palavras e ações) | E37: =Analise!$X$132 -> 0 | F37: =Analise!$W$132 -> 0
A38: 38 | B38: RACIONALIDADE | C38: 38 | D38: =Analise!V85 -> Sentimentalidade (Emocionalidade dominada) | E38: =Analise!$X$85 -> 0 | F38: =Analise!$W$85 -> 0
A39: 43 | B39: LIDERANÇA | C39: 43 | D39: =Analise!V92 -> Repercutibilidade (Liderança multidimensional) | E39: =Analise!$X$92 -> 0 | F39: =Analise!$W$92 -> 0
A40: 73 | B40: COERÊNCIA | C40: 73 | D40: =Analise!V128 -> Responsabilidade (Conscin e ambigüidades) | E40: =Analise!$X$128 -> 0 | F40: =Analise!$W$128 -> 0
...

Sheet Qualidade (Item)
A1: 0 | B1: ANÁLISE DAS FOLHAS DE AVALIAÇÃO DA CONSCIÊNCIA
C2: ORDENE A TABELA POR ORDEM DE NOTA
A3: ITEM | B3: VARIÁVEL | C3: FA | D3: QUALIDADE | E3: NOTA | F3: ST
A4: 1 | B4: =Analise!V41 -> SOMA | C4: 1 | D4: =Analise!V42 -> Intrassomaticidade (Conscin e Soma) | E4: =Analise!$X$42 -> 0 | F4: =Analise!$W$42 -> 0
A5: 2 | B5: SOMA | C5: 2 | D5: =Analise!V43 -> Hereditariedade (Paragenética e Genética) | E5: =Analise!$X$43 -> 0 | F5: =Analise!$W$43 -> 0
A6: 3 | B6: SOMA | C6: 3 | D6: =Analise!V44 -> Menoridade (Conscin-criança) | E6: =Analise!$X$44 -> 0 | F6: =Analise!$W$44 -> 0
A7: 4 | B7: SOMA | C7: 4 | D7: =Analise!V45 -> Sexualidade (Conscin-soma e sexo) | E7: =Analise!$X$45 -> 0 | F7: =Analise!$W$45 -> 0
A8: 5 | B8: SOMA | C8: 5 | D8: =Analise!V46 -> Mocidade (Conscin-jovem) | E8: =Analise!$X$46 -> 0 | F8: =Analise!$W$46 -> 0
A9: 6 | B9: SOMA | C9: 6 | D9: =Analise!V47 -> Psicomotricidade (Neurônios e massa muscular) | E9: =Analise!$X$47 -> 0 | F9: =Analise!$W$47 -> 0
A10: 7 | B10: SOMA | C10: 7 | D10: =Analise!V48 -> Escolaridade (Curriculo pessoal) | E10: =Analise!$X$48 -> 0 | F10: =Analise!$W$48 -> 0
A11: 8 | B11: SOMA | C11: 8 | D11: =Analise!V49 -> Compaternidade (Conscin e Família) | E11: =Analise!$X$49 -> 0 | F11: =Analise!$W$49 -> 0
A12: 9 | B12: SOMA | C12: 9 | D12: =Analise!V50 -> Convivialidade (Ligações cosmoéticas) | E12: =Analise!$X$50 -> 0 | F12: =Analise!$W$50 -> 0
A13: 10 | B13: SOMA | C13: 10 | D13: =Analise!V51 -> Longevidade (Terceira idade) | E13: =Analise!$X$51 -> 0 | F13: =Analise!$W$51 -> 0
A14: 11 | B14: =Analise!V53 -> BIOENERGÉTICA | C14: 11 | D14: =Analise!V54 -> Sensibilidade (Energias conscienciais) | E14: =Analise!$X$54 -> 0 | F14: =Analise!$W$54 -> 0
A15: 12 | B15: BIOENERGÉTICA | C15: 12 | D15: =Analise!V55 -> Sexochacralidade (Conscin e sexochacra) | E15: =Analise!$X$55 -> 0 | F15: =Analise!$W$55 -> 0
A16: 13 | B16: BIOENERGÉTICA | C16: 13 | D16: =Analise!V56 -> Vitalidade (Subcérebro abdominal) | E16: =Analise!$X$56 -> 0 | F16: =Analise!$W$56 -> 0
A17: 14 | B17: BIOENERGÉTICA | C17: 14 | D17: =Analise!V57 -> Aplicabilidade (Emprego das bioenergias) | E17: =Analise!$X$57 -> 0 | F17: =Analise!$W$57 -> 0
A18: 15 | B18: BIOENERGÉTICA | C18: 15 | D18: =Analise!V58 -> Frontochacralidade (Conscin e terceiro olho) | E18: =Analise!$X$58 -> 0 | F18: =Analise!$W$58 -> 0
A19: 16 | B19: BIOENERGÉTICA | C19: 16 | D19: =Analise!V59 -> Sanidade (Homeostase da conscin) | E19: =Analise!$X$59 -> 0 | F19: =Analise!$W$59 -> 0
A20: 17 | B20: BIOENERGÉTICA | C20: 17 | D20: =Analise!V60 -> Autodefensibilidade (Maturidade das profilaxias) | E20: =Analise!$X$60 -> 0 | F20: =Analise!$W$60 -> 0
A21: 18 | B21: BIOENERGÉTICA | C21: 18 | D21: =Analise!V61 -> Aquisitividade (Auto-apego e autodesapego) | E21: =Analise!$X$61 -> 0 | F21: =Analise!$W$61 -> 0
A22: 19 | B22: BIOENERGÉTICA | C22: 19 | D22: =Analise!V62 -> Desintoxidade (Autocompensações energéticas) | E22: =Analise!$X$62 -> 0 | F22: =Analise!$W$62 -> 0
A23: 20 | B23: BIOENERGÉTICA | C23: 20 | D23: =Analise!V63 -> Holochacralidade (Conscin e corpo energético) | E23: =Analise!$X$63 -> 0 | F23: =Analise!$W$63 -> 0
A24: 21 | B24: =Analise!V65 -> ANTIEMOCIONALIDADE | C24: 21 | D24: =Analise!V66 -> Anterior (Consciência pré-somática) | E24: =Analise!$X$66 -> 0 | F24: =Analise!$W$66 -> 0
A25: 22 | B25: ANTIEMOCIONALIDADE | C25: 22 | D25: =Analise!V67 -> Potencialidade (Coragem da consciência) | E25: =Analise!$X$67 -> 0 | F25: =Analise!$W$67 -> 0
A26: 23 | B26: ANTIEMOCIONALIDADE | C26: 23 | D26: =Analise!V68 -> Serenidade (Consciência e Serenismo) | E26: =Analise!$X$68 -> 0 | F26: =Analise!$W$68 -> 0
A27: 24 | B27: ANTIEMOCIONALIDADE | C27: 24 | D27: =Analise!V69 -> Cardiochacralidade (Emocionalidade dominante) | E27: =Analise!$X$69 -> 0 | F27: =Analise!$W$69 -> 0
A28: 25 | B28: ANTIEMOCIONALIDADE | C28: 25 | D28: =Analise!V70 -> Utilidade (Conscin e tempo livre) | E28: =Analise!$X$70 -> 0 | F28: =Analise!$W$70 -> 0
A29: 26 | B29: ANTIEMOCIONALIDADE | C29: 26 | D29: =Analise!V71 -> Profundidade (Auto-educação e superstições) | E29: =Analise!$X$71 -> 0 | F29: =Analise!$W$71 -> 0
A30: 27 | B30: ANTIEMOCIONALIDADE | C30: 27 | D30: =Analise!V72 -> Influenciabilidade (Conscin-satélite) | E30: =Analise!$X$72 -> 0 | F30: =Analise!$W$72 -> 0
A31: 28 | B31: ANTIEMOCIONALIDADE | C31: 28 | D31: =Analise!V73 -> Paraperceptibilidade (Animismo-parapsiquismo) | E31: =Analise!$X$73 -> 0 | F31: =Analise!$W$73 -> 0
A32: 29 | B32: ANTIEMOCIONALIDADE | C32: 29 | D32: =Analise!V74 -> Transcendentalidade (Conscin e misticismo) | E32: =Analise!$X$74 -> 0 | F32: =Analise!$W$74 -> 0
A33: 30 | B33: ANTIEMOCIONALIDADE | C33: 30 | D33: =Analise!V75 -> Egocarmalidade (Conscin e egoísmo) | E33: =Analise!$X$75 -> 0 | F33: =Analise!$W$75 -> 0
A34: 31 | B34: =Analise!V77 -> RACIONALIDADE | C34: 31 | D34: =Analise!V78 -> Invulgaridade (Consciência e talentos) | E34: =Analise!$X$78 -> 0 | F34: =Analise!$W$78 -> 0
A35: 32 | B35: RACIONALIDADE | C35: 32 | D35: =Analise!V79 -> Racionalidade (Conscin e mentalsoma) | E35: =Analise!$X$79 -> 0 | F35: =Analise!$W$79 -> 0
A36: 33 | B36: RACIONALIDADE | C36: 33 | D36: =Analise!V80 -> Intelectualidade (Conscin e inteligências) | E36: =Analise!$X$80 -> 0 | F36: =Analise!$W$80 -> 0
A37: 34 | B37: RACIONALIDADE | C37: 34 | D37: =Analise!V81 -> Personalidade (Temperamento pessoal) | E37: =Analise!$X$81 -> 0 | F37: =Analise!$W$81 -> 0
A38: 35 | B38: RACIONALIDADE | C38: 35 | D38: =Analise!V82 -> Animicidade (Conscin e animismo) | E38: =Analise!$X$82 -> 0 | F38: =Analise!$W$82 -> 0
A39: 36 | B39: RACIONALIDADE | C39: 36 | D39: =Analise!V83 -> Megachacralidade (Porta consciencial) | E39: =Analise!$X$83 -> 0 | F39: =Analise!$W$83 -> 0
A40: 37 | B40: RACIONALIDADE | C40: 37 | D40: =Analise!V84 -> Imperturbalidade (Conscin e autocontrole) | E40: =Analise!$X$84 -> 0 | F40: =Analise!$W$84 -> 0
...
